BEGIN:VCALENDAR
VERSION:2.0
PRODID:-//DePaw Pet Resort - ECPv6.15.18//NONSGML v1.0//EN
CALSCALE:GREGORIAN
METHOD:PUBLISH
X-WR-CALNAME:DePaw Pet Resort
X-ORIGINAL-URL:https://depawpetresort.com
X-WR-CALDESC:Events for DePaw Pet Resort
REFRESH-INTERVAL;VALUE=DURATION:PT1H
X-Robots-Tag:noindex
X-PUBLISHED-TTL:PT1H
BEGIN:VTIMEZONE
TZID:America/New_York
BEGIN:DAYLIGHT
TZOFFSETFROM:-0500
TZOFFSETTO:-0400
TZNAME:EDT
DTSTART:20250309T070000
END:DAYLIGHT
BEGIN:STANDARD
TZOFFSETFROM:-0400
TZOFFSETTO:-0500
TZNAME:EST
DTSTART:20251102T060000
END:STANDARD
BEGIN:DAYLIGHT
TZOFFSETFROM:-0500
TZOFFSETTO:-0400
TZNAME:EDT
DTSTART:20260308T070000
END:DAYLIGHT
BEGIN:STANDARD
TZOFFSETFROM:-0400
TZOFFSETTO:-0500
TZNAME:EST
DTSTART:20261101T060000
END:STANDARD
BEGIN:DAYLIGHT
TZOFFSETFROM:-0500
TZOFFSETTO:-0400
TZNAME:EDT
DTSTART:20270314T070000
END:DAYLIGHT
BEGIN:STANDARD
TZOFFSETFROM:-0400
TZOFFSETTO:-0500
TZNAME:EST
DTSTART:20271107T060000
END:STANDARD
END:VTIMEZONE
BEGIN:VEVENT
DTSTART;TZID=America/New_York:20260301T080000
DTEND;TZID=America/New_York:20260331T170000
DTSTAMP:20260420T101627
CREATED:20260311T175408Z
LAST-MODIFIED:20260311T175408Z
UID:2205-1772352000-1774976400@depawpetresort.com
SUMMARY:Happy-Go-Lucky March Promotions!
DESCRIPTION:March Promotions; Mar 1 -31 \nMust mention promotions at the time of booking or at checkout and cannot be redeemed nor refunded after checkout. \nTraining \nA Complimentary Orientation \nAND \n$50 Off Private Lesson Packages \nSpa & Stylist \n$25 Off a DeShedding Appt \nOR \n a FREE 1″ or 2″ Airbrushed 4-LEAF CLOVER Artwork (valued at $32.95) for St Patty’s Day!  \nEveryone’s Irish for a Day! \nLodging:  \nAdd a go-home spa package or groom to your March lodging and receive $15 off.
URL:https://depawpetresort.com/event/happy-go-lucky-march-promotions/
LOCATION:DePAW Pet Resort\, Geneva\, 100 S Glengarry Drive\, Geneva\, IL\, United States
CATEGORIES:Training Classes
END:VEVENT
BEGIN:VEVENT
DTSTART;TZID=America/New_York:20260302T080000
DTEND;TZID=America/New_York:20260407T170000
DTSTAMP:20260420T101627
CREATED:20260225T155527Z
LAST-MODIFIED:20260225T155527Z
UID:2210-1772438400-1775581200@depawpetresort.com
SUMMARY:Let's Make Your Dog Hoppy & Ear-Resistible by Signing up for Easter Photo's!
DESCRIPTION:Easter Photo Sign up! \nThe Easter Bunny is Coming!!! Sign up for Easter Themed photos at our front desk or email info@depawpetresort.com!  Don’t let your chance HOP AWAY!  Sign Up for these memories Now!
URL:https://depawpetresort.com/event/lets-make-your-dog-hoppy-ear-resistible-by-signing-up-for-easter-photos/
LOCATION:DePAW Pet Resort\, Geneva\, 100 S Glengarry Drive\, Geneva\, IL\, United States
CATEGORIES:DePAW Promotional Events
END:VEVENT
BEGIN:VEVENT
DTSTART;TZID=America/New_York:20260316T080000
DTEND;TZID=America/New_York:20260320T170000
DTSTAMP:20260420T101627
CREATED:20260311T175104Z
LAST-MODIFIED:20260311T175104Z
UID:2230-1773648000-1774026000@depawpetresort.com
SUMMARY:St. PAW-Tricks Week!
DESCRIPTION:St. PAW-TRICKS Week: Mar 16-20 \nCome and Celebrate with DePAW!  \nEvery day we will honor the great St Patrick by teaching PAW-TRICKS!\nEach dog will be taught a different trick everyday of the week (M-F).  \nNot only this a great time\, but it makes learning fun!! We will have green bone broth\, corned- beef treats and photo ops along the way. Join us this week for any of our services to participate in the celebration. \nMon: “Paw 5”    \nTue:  DANCE!    \nWed: Between the Legs   \nThu: High Jump  \nFri: Spin
URL:https://depawpetresort.com/event/st-paw-tricks-week/
LOCATION:DePAW Pet Resort\, Geneva\, 100 S Glengarry Drive\, Geneva\, IL\, United States
CATEGORIES:DePAW Promotional Events
END:VEVENT
END:VCALENDAR