BEGIN:VCALENDAR
VERSION:2.0
PRODID:-//DePaw Pet Resort - ECPv6.15.18//NONSGML v1.0//EN
CALSCALE:GREGORIAN
METHOD:PUBLISH
X-ORIGINAL-URL:https://depawpetresort.com
X-WR-CALDESC:Events for DePaw Pet Resort
REFRESH-INTERVAL;VALUE=DURATION:PT1H
X-Robots-Tag:noindex
X-PUBLISHED-TTL:PT1H
BEGIN:VTIMEZONE
TZID:America/New_York
BEGIN:DAYLIGHT
TZOFFSETFROM:-0500
TZOFFSETTO:-0400
TZNAME:EDT
DTSTART:20250309T070000
END:DAYLIGHT
BEGIN:STANDARD
TZOFFSETFROM:-0400
TZOFFSETTO:-0500
TZNAME:EST
DTSTART:20251102T060000
END:STANDARD
BEGIN:DAYLIGHT
TZOFFSETFROM:-0500
TZOFFSETTO:-0400
TZNAME:EDT
DTSTART:20260308T070000
END:DAYLIGHT
BEGIN:STANDARD
TZOFFSETFROM:-0400
TZOFFSETTO:-0500
TZNAME:EST
DTSTART:20261101T060000
END:STANDARD
BEGIN:DAYLIGHT
TZOFFSETFROM:-0500
TZOFFSETTO:-0400
TZNAME:EDT
DTSTART:20270314T070000
END:DAYLIGHT
BEGIN:STANDARD
TZOFFSETFROM:-0400
TZOFFSETTO:-0500
TZNAME:EST
DTSTART:20271107T060000
END:STANDARD
END:VTIMEZONE
BEGIN:VEVENT
DTSTART;TZID=America/New_York:20260401T080000
DTEND;TZID=America/New_York:20260430T170000
DTSTAMP:20260420T114336
CREATED:20260408T174816Z
LAST-MODIFIED:20260408T174816Z
UID:2248-1775030400-1777568400@depawpetresort.com
SUMMARY:April Promotions!
DESCRIPTION:April Promotions\, April 1-30  \nDaycare/ Training: Buy any 10 pack and get a complimentary nail. \nSpa/ Grooming- Complimentary nail polish with any spa package or groom package.  \n  \n  \n 
URL:https://depawpetresort.com/event/april-promotions/
LOCATION:DePAW Pet Resort\, Geneva\, 100 S Glengarry Drive\, Geneva\, IL\, United States
CATEGORIES:Training Classes
END:VEVENT
BEGIN:VEVENT
DTSTART;TZID=America/New_York:20260428T080000
DTEND;TZID=America/New_York:20260428T170000
DTSTAMP:20260420T114336
CREATED:20260408T182543Z
LAST-MODIFIED:20260408T182543Z
UID:2355-1777363200-1777395600@depawpetresort.com
SUMMARY: Client Pet Trivia Competition
DESCRIPTION:Client Pet Trivia Competition 14th\, 21st & 28th- Join us for Tuesday’s pet parent night out\, for a Pet Trivia Competition! Gather your teammates—groups of 2 to 6 are welcome—to test your knowledge of animals and compete for exciting prizes. Enjoy light finger foods and refreshments while having fun and connecting with fellow pet lovers. Don’t miss your chance to win and celebrate your love for pets in a friendly\, engaging atmosphere.  \n(This is pet parent event only.)
URL:https://depawpetresort.com/event/client-pet-trivia-competition-3/
LOCATION:DePAW Pet Resort\, Geneva\, 100 S Glengarry Drive\, Geneva\, IL\, United States
CATEGORIES:DePAW Promotional Events
END:VEVENT
END:VCALENDAR