BEGIN:VCALENDAR
VERSION:2.0
PRODID:-//DePaw Pet Resort - ECPv6.15.18//NONSGML v1.0//EN
CALSCALE:GREGORIAN
METHOD:PUBLISH
X-WR-CALNAME:DePaw Pet Resort
X-ORIGINAL-URL:https://depawpetresort.com
X-WR-CALDESC:Events for DePaw Pet Resort
REFRESH-INTERVAL;VALUE=DURATION:PT1H
X-Robots-Tag:noindex
X-PUBLISHED-TTL:PT1H
BEGIN:VTIMEZONE
TZID:America/New_York
BEGIN:DAYLIGHT
TZOFFSETFROM:-0500
TZOFFSETTO:-0400
TZNAME:EDT
DTSTART:20250309T070000
END:DAYLIGHT
BEGIN:STANDARD
TZOFFSETFROM:-0400
TZOFFSETTO:-0500
TZNAME:EST
DTSTART:20251102T060000
END:STANDARD
BEGIN:DAYLIGHT
TZOFFSETFROM:-0500
TZOFFSETTO:-0400
TZNAME:EDT
DTSTART:20260308T070000
END:DAYLIGHT
BEGIN:STANDARD
TZOFFSETFROM:-0400
TZOFFSETTO:-0500
TZNAME:EST
DTSTART:20261101T060000
END:STANDARD
BEGIN:DAYLIGHT
TZOFFSETFROM:-0500
TZOFFSETTO:-0400
TZNAME:EDT
DTSTART:20270314T070000
END:DAYLIGHT
BEGIN:STANDARD
TZOFFSETFROM:-0400
TZOFFSETTO:-0500
TZNAME:EST
DTSTART:20271107T060000
END:STANDARD
END:VTIMEZONE
BEGIN:VEVENT
DTSTART;TZID=America/New_York:20260201T080000
DTEND;TZID=America/New_York:20260228T170000
DTSTAMP:20260420T074441
CREATED:20260212T192646Z
LAST-MODIFIED:20260213T030006Z
UID:2191-1769932800-1772298000@depawpetresort.com
SUMMARY:February Love's Promotions!
DESCRIPTION: February Promotions; Feb 1 -28 \nTraining: Up to $450 off Training Packages – package discounts vary depending on package. \nDaily Trains: up to $100 off a Package ($50 off a 5 pack | $100 off a 10 pack) Stay & Train: up to $450 off ($300 off a 2-week stay | $450 off a 3-week stay) \nPrivate Lessons: up to $250 off ($125 off a 5 pack | $250 off a 10 pack \nStylist: $25 Off a Stylist Appt or a FREE 1″ or 2″ Airbrush HEART Artwork (valued at $32.95) Facebook Marketing Promo: Entire Month Feb 1-27 NEW!! For Share the love Month: “Take a photo of your pets “Heart Artwork”\, Tag DePAW and receive $8 Off your March Groom”
URL:https://depawpetresort.com/event/february-loves-promotions/
LOCATION:DePAW Pet Resort\, Geneva\, 100 S Glengarry Drive\, Geneva\, IL\, United States
CATEGORIES:Training Classes
END:VEVENT
BEGIN:VEVENT
DTSTART;TZID=America/New_York:20260202T080000
DTEND;TZID=America/New_York:20260206T170000
DTSTAMP:20260420T074441
CREATED:20260212T193543Z
LAST-MODIFIED:20260212T224556Z
UID:2196-1770019200-1770397200@depawpetresort.com
SUMMARY:DePAW’s Daycare Football Week!
DESCRIPTION:DePAW’s Daycare Football Week! Feb 2nd-5th and Puppy Bowl Activities Feb 6th;  \nCome join DePAW during our Annual football week festivities\, ending with our Superbowl Friday\, Feb 7th.  You and/or your pet wear your favorite football jersey as there will be lots “Tail-gating” going on. Activities will include things such as the longest football carry without a drop\, most touchdown catches\, and lots of practice focusing on out running the defense.
URL:https://depawpetresort.com/event/depaws-daycare-football-week/
LOCATION:DePAW Pet Resort\, Geneva\, 100 S Glengarry Drive\, Geneva\, IL\, United States
CATEGORIES:DePAW Promotional Events
END:VEVENT
BEGIN:VEVENT
DTSTART;TZID=America/New_York:20260207T110000
DTEND;TZID=America/New_York:20260207T140000
DTSTAMP:20260420T074441
CREATED:20260113T201452Z
LAST-MODIFIED:20260211T203901Z
UID:2145-1770462000-1770472800@depawpetresort.com
SUMMARY:Puppy Bowl! DePAW Pet Resorts vs Valley Animal Hospital!
DESCRIPTION:  \n \nDePAW Pet Resort vs Valley Animal Hospital Puppy Bowl; Feb 7th 11am-1pm \nOpen to the public. Come and attend the 1st Puppy Bowl\, hosted in partnership with Valley Animal Hospital. This event will feature raffle games\, exclusive one day only offers\, and an excellent opportunity to engage with the dedicated staff members from both facilities. \nFor more information contact DePAW (630)-232-8663 or Valley Animal Hospital (630)-232-7067 Homepage | Valley Animal Hospital
URL:https://depawpetresort.com/event/puppy-bowl-depaw-pet-resorts-vs-valley-animal-house/
LOCATION:DePAW Pet Resort\, Geneva\, 100 S Glengarry Drive\, Geneva\, IL\, United States
CATEGORIES:DePAW Promotional Events
END:VEVENT
BEGIN:VEVENT
DTSTART;TZID=America/New_York:20260212T080000
DTEND;TZID=America/New_York:20260214T170000
DTSTAMP:20260420T074441
CREATED:20260212T005836Z
LAST-MODIFIED:20260212T005836Z
UID:2150-1770883200-1771088400@depawpetresort.com
SUMMARY:Senior Home Residents & Our Pet Valentine Card Exchange
DESCRIPTION:  \n\n\n\nSenior Home Residents & Our Pet Valentine Card Exchange; Feb 12 – Feb 14 \nDogs Spreading the Love to Local Senior Residents. DePAW Pet Resort Hosts Senior Residents Homemade Valentines “DePAW Pals” card exchange with four Senior Living Facilities in the Fox Valley-TriCities: \n\nBria of Geneva\nThe Reserve of Geneva\nBickford of St. Charles\nHeritage Woods of Batavia \n\nOur goal is to share the love of pets with the community and build connections.  All January our furry guests make homemade one-of-a-kind Valentine Keepsakes for each and every resident at all four locations!    Each Senior Resident will receive a homemade Valentine’s Day Card of a pets’ Nose or Paw Print along with two photos of the pet who made the Valentine. This Valentine also ‘triples’ as a refrigerator magnet or Christmas Tree ornament.  In addition\, the Senior residents write Thank You’s back to the Pets. DePAW collects them from the residents and forwards them to the pet families to enjoy.  DePAW also attends the onsite Resident parties and brings a furry friend or two to pass out the snuggles.
URL:https://depawpetresort.com/event/senior-home-residents-our-pet-valentine-card-exchange/
LOCATION:DePAW Pet Resort\, Geneva\, 100 S Glengarry Drive\, Geneva\, IL\, United States
END:VEVENT
BEGIN:VEVENT
DTSTART;TZID=America/New_York:20260223T080000
DTEND;TZID=America/New_York:20260227T170000
DTSTAMP:20260420T074441
CREATED:20260212T193719Z
LAST-MODIFIED:20260212T193719Z
UID:2203-1771833600-1772211600@depawpetresort.com
SUMMARY:Birthday Paw-ty This Week for the Fur Ones!
DESCRIPTION:Birthday Paw-ty Week; Feb 23rd-27th \nOne week per month\, we celebrate all the birthdays in that month. We encourage guests to attend during Birthday Paw-ty Week\, and receive a complimentary birthday photo\, bandana\, treat\, and a day to celebrate with their fur-friends. We are always excited to honor our guests as they are a part of our (work) family too.
URL:https://depawpetresort.com/event/birthday-paw-ty-this-week-for-the-fur-ones/
LOCATION:DePAW Pet Resort\, Geneva\, 100 S Glengarry Drive\, Geneva\, IL\, United States
CATEGORIES:DePAW Free Events
END:VEVENT
END:VCALENDAR